BEGIN:VCALENDAR
VERSION:2.0
PRODID:-//Squarespace Inc/Squarespace 6//v6//EN
BEGIN:VEVENT
UID:59b5d1d6f7e0abec5d306423@squarespace.com
DTSTAMP:20190818T063909Z
DTSTART:20191025T230000Z
DTEND:20191026T050000Z
SUMMARY:Capturing Magical Childhood
GEO:-28.026;153.417
LOCATION:Emotional Photography\, Broadbeach Waters\, Australia
END:VEVENT
END:VCALENDAR
