BEGIN:VCALENDAR
VERSION:2.0
PRODID:-//Squarespace Inc/Squarespace 6//v6//EN
BEGIN:VEVENT
UID:587d6f94cd0f68450bf0f086@squarespace.com
DTSTAMP:20170509T115119Z
DTSTART:20170611T000000Z
DTEND:20170611T060000Z
SUMMARY:'Capturing Magical Childhood' Workshop for Mommies 
END:VEVENT
END:VCALENDAR
